BEGIN:VCALENDAR
VERSION:2.0
PRODID:-//ChamberMaster//Event Calendar 2.0//EN
METHOD:PUBLISH
X-PUBLISHED-TTL:P3D
REFRESH-INTERVAL:P3D
CALSCALE:GREGORIAN
BEGIN:VEVENT
DTSTART:20201102T180000Z
DTEND:20201102T193000Z
X-MICROSOFT-CDO-ALLDAYEVENT:FALSE
SUMMARY:The Trans-Pacific Partnership Free Trade Agreement
DESCRIPTION:Discover the Trans-Pacific Partnership Free Trade Agreement and its advantages for Canadian importers\, manufacturers and exporters. Webinar given by Ottawa Board of Trade member Christian Sivi re of Solimpex
X-ALT-DESC;FMTTYPE=text/html:Discover the Trans-Pacific Partnership Free Trade Agreement and its advantages for Canadian importers\, manufacturers and exporters. Webinar given by Ottawa Board of Trade member Christian Sivi&egrave\;re of Solimpex
LOCATION:On-line
UID:e.3330.2401
SEQUENCE:3
DTSTAMP:20260421T201327Z
URL:https://business.ottawabot.ca/events/details/the-trans-pacific-partnership-free-trade-agreement-11-02-2020-2401
END:VEVENT

END:VCALENDAR
