BEGIN:VCALENDAR
VERSION:2.0
PRODID:-//ChamberMaster//Event Calendar 2.0//EN
METHOD:PUBLISH
X-PUBLISHED-TTL:P3D
REFRESH-INTERVAL:P3D
CALSCALE:GREGORIAN
BEGIN:VEVENT
DTSTART:20201215T133000Z
DTEND:20201215T170000Z
X-MICROSOFT-CDO-ALLDAYEVENT:FALSE
SUMMARY:Understanding Your Work and Leadership Style (INSIGHT)
DESCRIPTION:This session is part of the Developing Leaders Series (DLS). The DLS was designed for the senior management in small-mid sized enterprises (SME) including not-for-profits. The series focuses on peer-based learning and training on the most important leadership competencies.\n\nDelivered via Zoom with interactive features\, participants are encouraged to actively participate in the sessions including sharing their video to make the session a positive experience for all.\n\n\n\n \n\n\n\nUnderstanding Your Work and Leadership Style (INSIGHT)\n\nTickets: https://www.eventbrite.ca/e/dls-understanding-your-work-and-leadership-style-insight-tickets-113884284962\n\nWhat is your leadership style and how can you be most effective in leading your team? How can you leverage those around you to effectively deliver on your Vision\n\nThis session will use the results from your INSIGHT assessment to help you understand your preferences in working with other people and how that can work for you or against you in many cases. We will consider your style by looking at four traits:\n\n\n	Getting Your Way: How you express your thoughts\, present ideas and assert yourself (Direct vs Indirect)\;\n	Responding to People: How you approach and respond to others\, particularly groups of people (Reserved vs Outgoing)\;\n	Pacing Activity: How quickly you take action and make decisions (Urgent vs Steady)\; and\n	Dealing with Details: How you structure your time\, carry out projects and handle details (Unstructured vs Precise).\n\n\nThe session will also explore the following:\n\n\n	how the environment (especially stressful situations) affect your behavior and may lead to overuse of your strengths\;\n	how to communicate better with team members having the same\, opposite or different styles\;\n	how to work better with your leader/boss\; and\n	how to improve your team effectiveness.\n\n\nThis session will be led and moderated by Claude Haw.\n\n\n\n\nAgenda\n\n\n	8:30 - Introductions\n	8:45 - Part 1\, includes 1-2 break-out exercises\n	10:00 - Break\n	10:15 - Part 2\, includes 1-2 break-out exercises\n	11:30 - Q&A & wrap-up\n\n\n\n\n \n\n\n\nRegistration\n\nMore details and registration can be found on our Eventbrite page for this session.
X-ALT-DESC;FMTTYPE=text/html:<div>\n<p>This session is part of the <a href="https://www.businesssherpagroup.com/solutions/executive-solutions/developing-leaders-series/">Developing Leaders Series</a> (DLS). The DLS was designed for the senior management in small-mid sized enterprises (SME) including not-for-profits. The series focuses on peer-based learning and training on the most important leadership competencies.</p>\n\n<p>Delivered via Zoom with interactive features\, participants are encouraged to actively participate in the sessions including sharing their video to make the session a positive experience for all.</p>\n</div>\n\n<div>\n<h3>&nbsp\;</h3>\n</div>\n\n<div>\n<h3>Understanding Your Work and Leadership Style (INSIGHT)</h3>\n\n<p><strong>Tickets:</strong><em>&nbsp\;</em><a href="https://www.eventbrite.ca/e/dls-understanding-your-work-and-leadership-style-insight-tickets-113884284962">https://www.eventbrite.ca/e/dls-understanding-your-work-and-leadership-style-insight-tickets-113884284962</a></p>\n\n<p>What is your leadership style and how can you be most effective in leading your team? How can you leverage those around you to effectively deliver on your Vision</p>\n\n<p>This session will use the results from your INSIGHT assessment to help you understand your preferences in working with other people and how that can work for you or against you in many cases. We will consider your style by looking at four traits:</p>\n\n<ol>\n	<li>Getting Your Way: How you express your thoughts\, present ideas and assert yourself (Direct vs Indirect)\;</li>\n	<li>Responding to People: How you approach and respond to others\, particularly groups of people (Reserved vs Outgoing)\;</li>\n	<li>Pacing Activity: How quickly you take action and make decisions (Urgent vs Steady)\; and</li>\n	<li>Dealing with Details: How you structure your time\, carry out projects and handle details (Unstructured vs Precise).</li>\n</ol>\n\n<p>The session will also explore the following:</p>\n\n<ul>\n	<li>how the environment (especially stressful situations) affect your behavior and may lead to overuse of your strengths\;</li>\n	<li>how to communicate better with team members having the same\, opposite or different styles\;</li>\n	<li>how to work better with your leader/boss\; and</li>\n	<li>how to improve your team effectiveness.</li>\n</ul>\n\n<p>This session will be led and moderated by&nbsp\;<a href="https://www.linkedin.com/in/claudehaw/" rel="nofollow noopener noreferrer" style="color: var(--eds-control\,#3659e3)\; text-decoration-line: none\; cursor: pointer\; background-color: transparent\; padding-top: 0px\;" target="_blank">Claude Haw</a>.</p>\n\n<div>\n<h3><br />\nAgenda</h3>\n\n<ul>\n	<li>8:30 - Introductions</li>\n	<li>8:45 - Part 1\, includes 1-2 break-out exercises</li>\n	<li>10:00 - Break</li>\n	<li>10:15 - Part 2\, includes 1-2 break-out exercises</li>\n	<li>11:30 - Q&amp\;A &amp\; wrap-up</li>\n</ul>\n</div>\n</div>\n\n<div>&nbsp\;</div>\n\n<h3><br />\nRegistration</h3>\n\n<div>More details and registration can be found on our <a href="https://www.eventbrite.ca/e/dls-understanding-your-work-and-leadership-style-insight-tickets-113884284962">Eventbrite page for this session</a>.&nbsp\;</div>\n
LOCATION:
UID:e.3330.2386
SEQUENCE:3
DTSTAMP:20260421T214624Z
URL:https://business.ottawabot.ca/events/details/understanding-your-work-and-leadership-style-insight-2386
END:VEVENT

END:VCALENDAR
