BEGIN:VCALENDAR
VERSION:2.0
PRODID:-//ChamberMaster//Event Calendar 2.0//EN
METHOD:PUBLISH
X-PUBLISHED-TTL:P3D
REFRESH-INTERVAL:P3D
CALSCALE:GREGORIAN
BEGIN:VEVENT
DTSTART:20210917T133000Z
DTEND:20210917T143000Z
X-MICROSOFT-CDO-ALLDAYEVENT:FALSE
SUMMARY:Vaccination Verification Info Session for Businesses with Ottawa Public Health and By-Law
DESCRIPTION:REGISTRATION  IS NOW CLOSED.  THE WEBINAR WILL BE RECORDED AND HOSTED ON OUR WEBSITE LATER TODAY AT https://www.ottawabot.ca/webinars/\n\n\n\nThe Ottawa Board of Trade has partnered with Ottawa Public Health\, the City of Ottawa and the Ottawa Coalition of Business Improvement Areas to bring you the Vaccination Verification Info Session for Businesses with Ottawa Public Health and By-Law .
X-ALT-DESC;FMTTYPE=text/html:<span style="color:#FF0000\;">REGISTRATION&nbsp\; IS NOW CLOSED.&nbsp\; THE WEBINAR WILL BE RECORDED AND HOSTED ON OUR WEBSITE LATER TODAY AT&nbsp\;https://www.ottawabot.ca/webinars/</span><br />\n<br />\n<span style="font-family: tahoma\; font-size: 14px\;">The Ottawa Board of Trade has partnered with Ottawa Public Health\, the City of Ottawa and the Ottawa Coalition of Business Improvement Areas to bring you the </span><span style="font-size:14px\;"><span style="font-family:tahoma\;"><strong>Vaccination Verification Info Session for Businesses with Ottawa Public Health and By-Law&#8203\;<span style="color:black\;">.</span></strong></span></span><br />\n<br style="font-family: tahoma\; font-size: 14px\;" />\n<br />\n&nbsp\;
LOCATION:Zoom webinar - the link will be emailed to registered guests before 7:00 am on September 17\, 2021.
UID:e.3330.2604
SEQUENCE:3
DTSTAMP:20260423T164300Z
URL:https://business.ottawabot.ca/events/details/vaccination-verification-info-session-for-businesses-with-ottawa-public-health-and-by-law-2604
END:VEVENT

END:VCALENDAR
