BEGIN:VCALENDAR
VERSION:2.0
PRODID:-//ChamberMaster//Event Calendar 2.0//EN
METHOD:PUBLISH
X-PUBLISHED-TTL:P3D
REFRESH-INTERVAL:P3D
CALSCALE:GREGORIAN
BEGIN:VEVENT
DTSTART:20200331T133000Z
DTEND:20200331T143000Z
X-MICROSOFT-CDO-ALLDAYEVENT:FALSE
SUMMARY:Virtual Networking: How to Build Business Without Leaving the House
DESCRIPTION:People are working from home and being urged to practice social distancing. \n\n\n\nAs humans\, we have the need to be connected. It's part of our DNA. But\, how do we do that when our circumstances are keeping us isolated\, alone\, and lost?\n\nThankfully\, online networks can fill the void. Better yet\, they can help your business grow during these tough times if you know how to use them.\n\n\n\nBuilding relationships online requires a new mindset\, an innovative approach\, and unique skills\n\n\n\nExperts keep saying how important it is to be active online. But\, most online marketing programs only focus on the technical and tactical aspects of social networks. They promote the idea that online visibility creates connections\, without mentioning that these connections are worthless if you can't convert them into relationships.\n\n\n\nWhat you'll learn by attending this program\n\n	The 3 biggest obstacles to building online relationships and how to overcome them.\n	The 4 cornerstones of online relationships and how they affect relationship development.\n	The 5 secret (and proven) online networking strategies that radically impact relationships and results.\n	How to measure your progress and success in moving relationships towards a professional outcome.\n	How to reduce the stress of online networking to drive your business results.
X-ALT-DESC;FMTTYPE=text/html:People are working from home and being urged to practice social distancing.&nbsp\;<br />\n<br />\nAs humans\, we have the need to be connected. It&rsquo\;s part of our DNA. But\, how do we do that when our circumstances are keeping us isolated\, alone\, and lost?<br />\nThankfully\, online networks can fill the void. Better yet\, they can help your business grow during these tough times&hellip\;if you know how to use them.<br />\n<br />\n<strong><span style="font-size:12.0pt\;">Building relationships online requires a new mindset\, an innovative approach\, and unique skills</span></strong><br />\n<br />\nExperts keep saying how important it is to be active online. But\, most online marketing programs only focus on the technical and tactical aspects of social networks. They promote the idea that <em>online visibility creates connections</em>\, without mentioning that these connections are worthless if you can&rsquo\;t convert them into relationships.<br />\n<br />\n<strong><span style="font-size:12.0pt\;">What you&rsquo\;ll learn by attending this program</span></strong>\n<ul>\n	<li style="margin-bottom:8.0pt\;">The <strong><em>3 biggest obstacles to building online relationships</em></strong> and how to overcome them.</li>\n	<li style="margin-bottom:8.0pt\;">The <strong><em>4 cornerstones of online relationships</em></strong> and how they affect relationship development.</li>\n	<li style="margin-bottom:8.0pt\;">The <strong><em>5 secret (and proven) online networking strategies</em></strong> that radically impact relationships and results.</li>\n	<li style="margin-bottom:8.0pt\;">How to <strong><em>measure your progress and success</em></strong> in moving relationships towards a professional outcome.</li>\n	<li style="margin-bottom:8.0pt\;">How to <strong>reduce the stress</strong> of online networking to drive your business results.</li>\n</ul>\n
LOCATION:Webinar Registered attendees will receive the webinar link via email.
UID:e.3330.1646
SEQUENCE:3
DTSTAMP:20260424T165821Z
URL:https://business.ottawabot.ca/events/details/virtual-networking-how-to-build-business-without-leaving-the-house-1646
END:VEVENT

END:VCALENDAR
