BEGIN:VCALENDAR
VERSION:2.0
PRODID:-//ChamberMaster//Event Calendar 2.0//EN
METHOD:PUBLISH
X-PUBLISHED-TTL:P3D
REFRESH-INTERVAL:P3D
CALSCALE:GREGORIAN
BEGIN:VEVENT
DTSTART:20200407T150000Z
DTEND:20200407T160000Z
X-MICROSOFT-CDO-ALLDAYEVENT:FALSE
SUMMARY:Webinar: Business Insurance in the COVID-19 Context
DESCRIPTION:Business Insurance in the COVID-19 Context\n\n\n\nThe COVID-19 pandemic has resulted in numerous questions from business owners on business insurance coverage.  From business interruption coverage to the risk of looting to benefits and personal insurance\, how will COVID-19 impact your insurance coverage?\n\n \nJoin the team from Cowan insurance on April 7th as they share the questions they have received most since the beginning of the COVID-19 crisis.  The Cowan team will be presenting on topics including Commercial Insurance\, Employee Benefits\, Group Retirement and Personal Investments and Insurance.  Each of these areas impacts you\, your business and your employees.  The Cowan team will share some of the challenges and strategies that have helped their clients navigate these unprecedented times.\n\n Speakers will include Julie Brisson (Pension & Benefits)\, Nick Goodfellow (Commercial Insurance) and Rob Salvucci and Tracy Spark (Cowan Infinite-Personal Lines)
X-ALT-DESC;FMTTYPE=text/html:<strong><span style="font-size:14px\;">Business Insurance in the COVID-19 Context</span></strong><br />\n<br />\n<span style="font-size:12px\;"><span style="font-family:arial\;">The COVID-19 pandemic has resulted in numerous questions from business owners on business insurance coverage.&nbsp\; From business interruption coverage to the risk of looting to benefits and personal insurance\, how will COVID-19 impact your insurance coverage?</span></span><br />\n&nbsp\;\n<p class="xmsonormal"><span style="font-size:12px\;"><span style="font-family:arial\;">Join the team from Cowan insurance on April 7<sup>th</sup> as they share the questions they have received most since the beginning of the COVID-19 crisis.&nbsp\; The Cowan team will be presenting on topics including Commercial Insurance\, Employee Benefits\, Group Retirement and Personal Investments and Insurance.&nbsp\; Each of these areas impacts you\, your business and your employees.&nbsp\; The Cowan team will&nbsp\;share some of the challenges and strategies that have helped their clients navigate these unprecedented times.</span></span><o:p></o:p></p>\n\n<p class="xmsonormal"><span style="font-size:12px\;"><span style="font-family:arial\;">&nbsp\;</span></span><span style="font-family: arial\; font-size: 12px\;">Speakers will include Julie Brisson (Pension &amp\; Benefits)\, Nick Goodfellow (Commercial Insurance) and Rob Salvucci and Tracy Spark (Cowan Infinite-Personal Lines)</span></p>\n\n<p class="xmsonormal"><o:p></o:p></p>\n
LOCATION:Webinar. Registration link will be emailed prior to the event. You must register in advance.
UID:e.3330.1650
SEQUENCE:3
DTSTAMP:20260424T153338Z
URL:https://business.ottawabot.ca/events/details/webinar-business-insurance-in-the-covid-19-context-1650
END:VEVENT

END:VCALENDAR
