BEGIN:VCALENDAR
VERSION:2.0
PRODID:-//ChamberMaster//Event Calendar 2.0//EN
METHOD:PUBLISH
X-PUBLISHED-TTL:P3D
REFRESH-INTERVAL:P3D
CALSCALE:GREGORIAN
BEGIN:VEVENT
DTSTART:20200514T150000Z
DTEND:20200514T160000Z
X-MICROSOFT-CDO-ALLDAYEVENT:FALSE
SUMMARY:Webinar: Communicating & Marketing in a COVID-19 Environment
DESCRIPTION:Communicating & Marketing in a COVID-19 Environment\n\n\n\nFor some\, selling right now may feel desperate\, wrong\, or uncomfortable but selling is imperative for the economy to recover. How do you market in this environment\, though? We'll talk about how to position your company so you can continue to sell\, without damaging you image. In fact\, you can enhance your image - corporate social responsibility and effective messaging are key!\n\n \n\nCatherine Priestman\, CD\, MBA\n\nCatherine Priestman loves what she does and leads her team to uncover potential\, inspire creativity\, instill trust and develop solutions.\n\n\n\nShe is the President and CEO of CP Business Solutions Inc.\, a marketing agency she incorporated 8 years ago\, following a time as a sole proprietor and an exciting career in the Air Force\, that took her all over the world. Catherine continues to travel extensively and delivers services to her clients around the globe. She is driven by a tireless pursuit for creative results and is always looking for a fresh challenge.\n\n\n\nCatherine is the very essence of the colour orange that brands her business and permeates her personal and professional life. Creative\, confident and slightly off-the-wall\, Catherine has the personality and the heart to carry off and lay claim to such a vibrant shade.\n\n\n\nIn the almost 10 years that she has lived in Orleans\, Ontario\, Catherine has made personal and professional connections\, getting involved as an active member of the community and was recognized with the 2018 Woman Entrepreneur of the Year award at the Orleans Chamber of Commerce's Annual Business Excellence Awards.\n\nCatherine has only two speeds: whirlwind and asleep.
X-ALT-DESC;FMTTYPE=text/html:<span style="font-size:18px\;"><span style="font-family:tahoma\;"><strong>Communicating &amp\; Marketing in a COVID-19 Environment</strong></span></span><br />\n<br />\n<span style="font-size:14px\;"><span style="font-family:tahoma\;">For some\, selling right now may feel desperate\, wrong\, or uncomfortable but selling is imperative for the economy to recover. How do you market in this environment\, though? We&rsquo\;ll talk about how to position your company so you can continue to sell\, without damaging you image. In fact\, you can enhance your image - corporate social responsibility and effective messaging are key!</span></span><br />\n&nbsp\;\n<div class="OutlineElement Ltr  BCX7 SCXW5153289" font-size:="" segoe="" style="margin: 0px\; padding: 0px\; user-select: text\; -webkit-user-drag: none\; -webkit-tap-highlight-color: transparent\; overflow: visible\; cursor: text\; clear: both\; position: relative\; direction: ltr\; color: rgb(0\, 0\, 0)\; font-family: " ui="">\n<p class="paragraph" paraeid="{4ab6b6c2-6bca-47d2-b1ef-1b784c9ee72d}{171}" paraid="1521282541" style="margin:0cm\;margin-bottom:.0001pt\;vertical-align:baseline\;\nuser-select: text\;-webkit-user-drag: none\;-webkit-tap-highlight-color: transparent\;\noverflow-wrap: break-word"><span style="font-size:14px\;"><span style="font-family:tahoma\;"><span style="font-size:16px\;"><strong>Catherine Priestman\, CD\, MBA</strong></span></span><br />\n<span style="font-family:tahoma\;">Catherine Priestman loves what she does and leads her team to uncover potential\, inspire creativity\, instill trust and develop solutions.<br />\n<br />\nShe is the President and CEO of CP Business Solutions Inc.\, a marketing agency she incorporated 8 years ago\, following a time as a sole proprietor and an exciting career in the Air Force\, that took her all over the world. Catherine continues to travel extensively and delivers services to her clients around the globe. She is driven by a tireless pursuit for creative results and is always looking for a fresh challenge.<br />\n<br />\nCatherine is the very essence of the colour orange that brands her business and permeates her personal and professional life. Creative\, confident and slightly off-the-wall\, Catherine has the personality and the heart to carry off and lay claim to such a vibrant shade.<br />\n<br />\nIn the almost 10 years that she has lived in Orleans\, Ontario\, Catherine has made personal and professional connections\, getting involved as an active member of the community and was recognized with the 2018 Woman Entrepreneur of the Year award at the Orleans Chamber of Commerce&rsquo\;s Annual Business Excellence Awards.<br />\n<span style="font-size:11.0pt\;">Catherine has only two speeds: whirlwind and asleep.&nbsp\;</span></span></span></p>\n</div>\n
LOCATION:Webinar The webinar link will be forwarded to all registered attendees at or by 9:00 AM on May 14. This webinar is complimentary and open to everyone. You must register in advance.
UID:e.3330.1711
SEQUENCE:3
DTSTAMP:20260424T141635Z
URL:https://business.ottawabot.ca/events/details/webinar-communicating-marketing-in-a-covid-19-environment-1711
END:VEVENT

END:VCALENDAR
