BEGIN:VCALENDAR
VERSION:2.0
PRODID:-//ChamberMaster//Event Calendar 2.0//EN
METHOD:PUBLISH
X-PUBLISHED-TTL:P3D
REFRESH-INTERVAL:P3D
CALSCALE:GREGORIAN
BEGIN:VEVENT
DTSTART:20200414T150000Z
DTEND:20200414T160000Z
X-MICROSOFT-CDO-ALLDAYEVENT:FALSE
SUMMARY:Webinar: COVID-19 - A Review of Government Assistance and Tax Related Measures
DESCRIPTION:COVID-19: A Review of Government Assistance and Tax Related Measures \n\n\n\nOur governments are reacting to the COVID-19 pandemic with tax measures and business assistance programs.  But what do they mean for businesses?  How do you qualify for assistance?  Are these programs answering business needs?\n\n\n\nJoin Jim McConnery\, CPA\, CA\, TEP of Welch LLP as he reviews the various federal and provincial programs that provide assistance to businesses to weather the COVID-19 challenges. This will include a discussion of the criteria applicable to the various measures and related financial and tax planning considerations. \n\n\n\nJim McConnery is a Tax and Estate Practitioner with a wide ranging expertise in tax\, acquired through his 25 years of public accounting. Jim provides assistance to individuals and private companies with a particular focus on tax\, estate and succession planning. A key aspect of Jim's expertise relates to tax minimization strategies via family trusts   this includes income splitting strategies and multiplying access to the lifetime capital gains exemption. Jim also provides support in the context of the purchase or sale of private company groups.\n\n\n\nJim also assists corporate groups with both inbound and outbound structuring assignments. This includes planning to minimize tax with respect to foreign income and steps to minimize tax incurred when income is repatriated.\n\n\n\nJim oversees compliance assignments which include withholding tax and foreign tax credit matters. Jim provides planning assistance to individuals with respect to both immigration to and emigration from Canada.\n\n\n\nJim joined Welch LLP in 1994 after graduating from the University of Ottawa\, where he received a Bachelor of Commerce degree with honours in Finance. He received his CA designation in 1997. Jim was with a national accounting firm's tax group for 10 years and returned to Welch LLP in 2007. He has been involved in educational programs for both CPA Canada and CPA Ontario.
X-ALT-DESC;FMTTYPE=text/html:<span style="font-size:16px\;"><strong><span style="color:#000000\;"><span style="font-family:calibri\,sans-serif\;">COVID-19: A Review of Government Assistance and Tax Related Measures&nbsp\;</span></span></strong></span><br />\n<br />\nOur governments are reacting to the COVID-19 pandemic with tax measures and business assistance programs.&nbsp\; But what do they mean for businesses?&nbsp\; How do you qualify for assistance?&nbsp\; Are these <span style="font-size:12px\;"><span style="font-family:arial\;">programs answering business needs?<br />\n<br />\n<span style="font-size:14px\;">Join Jim McConnery\, CPA\, CA\, TEP of Welch LLP as he reviews the various federal and provincial programs that provide assistance to businesses to weather the COVID-19 challenges. This will include a discussion of the criteria applicable to the various measures and related financial and tax planning considerations. </span></span></span><br />\n<br />\n<span style="font-family:arial\,sans-serif\;">Jim McConnery is a Tax and Estate Practitioner with a wide ranging expertise in tax\, acquired through his 25 years of public accounting. Jim provides assistance to individuals and private companies with a particular focus on tax\, estate and succession planning. A key aspect of Jim&rsquo\;s expertise relates to tax minimization strategies via family trusts &ndash\; this includes income splitting strategies and multiplying access to the lifetime capital gains exemption. Jim also provides support in the context of the purchase or sale of private company groups.</span><br />\n<br />\n<span style="font-family:arial\,sans-serif\;">Jim also assists corporate groups with both inbound and outbound structuring assignments. This includes planning to minimize tax with respect to foreign income and steps to minimize tax incurred when income is repatriated.</span><br />\n<br />\n<span style="font-family:arial\,sans-serif\;">Jim oversees compliance assignments which include withholding tax and foreign tax credit matters. Jim provides planning assistance to individuals with respect to both immigration to and emigration from Canada.</span><br />\n<br />\n<span style="font-family:arial\,sans-serif\;">Jim joined Welch LLP in 1994 after graduating from the University of Ottawa\, where he received a Bachelor of Commerce degree with honours in Finance. He received his CA designation in 1997. Jim was with a national accounting firm&rsquo\;s tax group for 10 years and returned to Welch LLP in 2007. He has been involved in educational programs for both CPA Canada and CPA Ontario.</span><br />\n&nbsp\;
LOCATION:Webinar. Registration link will be emailed prior to the event. You must register in advance.
UID:e.3330.1652
SEQUENCE:3
DTSTAMP:20260424T141934Z
URL:https://business.ottawabot.ca/events/details/webinar-covid-19-tax-measures-business-assistance-programs-1652
END:VEVENT

END:VCALENDAR
