BEGIN:VCALENDAR
VERSION:2.0
PRODID:-//ChamberMaster//Event Calendar 2.0//EN
METHOD:PUBLISH
X-PUBLISHED-TTL:P3D
REFRESH-INTERVAL:P3D
CALSCALE:GREGORIAN
BEGIN:VEVENT
DTSTART:20200430T150000Z
DTEND:20200430T160000Z
X-MICROSOFT-CDO-ALLDAYEVENT:FALSE
SUMMARY:Webinar: Fireside Chat with Karla Briones\, Steve Cody & Sueling Ching
DESCRIPTION:Fireside Chat with Karla Briones\, Steve Cody & Sueling Ching\n\n\n\nAll businesses are feeling the impact of the COVID-19 pandemic. But how do you deal with the COVID-1 9 pandemic when you are the owner of multiple businesses?  How do you find the resilience and determination to not only keep moving forward\, but also make an impact on your community?\n\n\n\nJoin Sueling Ching\, President & CEO of Ottawa Board of Trade in a fireside chat with two of Ottawa's amazing business leaders and entrepreneurs\, Karla Briones and Steve Cody.\n\n\n\nKarla Briones is the owner of Freshii Westboro\, Global Pet Foods Kanata & Hintonburg\, and Karla Briones Consulting.  Karla is an independent business advisor with the World Skills Employment Centre\, funder and mentor with The Founders Fund\, and business advisor with Invest Ottawa.\n\n\n\nIn 2018\, Karla was awarded the Ottawa Newcomer Entrepreneur of the Year Award and the recipient of the Women Who Lead Award in 2019.\n\n\n\nSteve Cody has founded more than a dozen successful businesses including Cody Party Rentals\, Monster Halloween\, The Better Software Company.  Steve's latest venture\, Ruckify\, has rolled out in Canada and is now taking Texas by storm.  Steve founded Say No For Nick\, a not-for-profit organization advocating for the prevention of opioid and fentanyl use by youth.
X-ALT-DESC;FMTTYPE=text/html:<span style="color:#000000\;"><span style="font-family: arial\;"><span style="font-size: 18px\;"><b>Fireside Chat with Karla Briones\, Steve Cody &amp\; Sueling Ching</b></span></span></span><br />\n<br />\nAll businesses are feeling the impact of the COVID-19 pandemic. But how do you deal with the COVID-1 9 pandemic when you are the owner of multiple businesses?&nbsp\; How do you find the resilience and determination to not only keep moving forward\, but also make an impact on your community?<br />\n<br />\nJoin Sueling Ching\, President &amp\; CEO of Ottawa Board of Trade in a fireside chat with two of Ottawa&rsquo\;s amazing business leaders and entrepreneurs\, Karla Briones and Steve Cody.<br />\n<br />\nKarla Briones is the owner of Freshii Westboro\, Global Pet Foods Kanata &amp\; Hintonburg\, and Karla Briones Consulting.&nbsp\; Karla is an independent business advisor with the World Skills Employment Centre\, funder and mentor with The Founders Fund\, and business advisor with Invest Ottawa.<br />\n<br />\nIn 2018\, Karla was awarded the Ottawa Newcomer Entrepreneur of the Year Award and the recipient of the Women Who Lead Award in 2019.<br />\n<br />\nSteve Cody has founded more than a dozen successful businesses including Cody Party Rentals\, Monster Halloween\, The Better Software Company.&nbsp\; Steve&rsquo\;s latest venture\, Ruckify\, has rolled out in Canada and is now taking Texas by storm.&nbsp\; Steve founded Say No For Nick\, a not-for-profit organization advocating for the prevention of opioid and fentanyl use by youth.<br />\n&nbsp\;
LOCATION:Webinar The webinar link will be forwarded to all registered attendees at or by 9:00 AM on April 28. This webinar is complimentary and open to everyone. You must register in advance.
UID:e.3330.1705
SEQUENCE:3
DTSTAMP:20260424T153440Z
URL:https://business.ottawabot.ca/events/details/webinar-fireside-chat-with-karla-briones-steve-cody-sueling-ching-1705
END:VEVENT

END:VCALENDAR
