BEGIN:VCALENDAR
VERSION:2.0
PRODID:-//ChamberMaster//Event Calendar 2.0//EN
METHOD:PUBLISH
X-PUBLISHED-TTL:P3D
REFRESH-INTERVAL:P3D
CALSCALE:GREGORIAN
BEGIN:VEVENT
DTSTART:20200616T150000Z
DTEND:20200616T160000Z
X-MICROSOFT-CDO-ALLDAYEVENT:FALSE
SUMMARY:Webinar: Is Your Business Inadvertently Lobbying During COVID-19?
DESCRIPTION:Is Your Business Inadvertently Lobbying During COVID-19?\n\n\n\nDuring the COVID-19 pandemic\, more and more businesses have been communicating with the municipal\, provincial and federal levels of governments. Some of these communications\, including certain communications about government contracts\, grants and financial benefits\, are considered "lobbying". This seminar will provide an overview of the law\, including potential legal and reputational risks.\n\n\n\nKyle Morrow practices political law at Fasken Martineau DuMoulin LLP. He advises clients on their compliance obligations in the areas of lobbying\, conflicts of interest\, campaign finance\, anti-bribery and corruption\, whistleblowing\, and procurement integrity. Kyle also defends clients who are being investigated or prosecuted for political offences.
X-ALT-DESC;FMTTYPE=text/html:<span style="font-family:tahoma\;"><span style="color:#000000\;"><span style="font-size:18px\;"><strong>Is Your Business Inadvertently Lobbying During COVID-19?</strong></span></span></span><br />\n<br />\n<span style="font-size:14px\;"><span style="font-family:tahoma\;">During the COVID-19 pandemic\, more and more businesses have been communicating with the municipal\, provincial and federal levels of governments. Some of these communications\, including certain communications about government contracts\, grants and financial benefits\, are considered &ldquo\;lobbying&rdquo\;. This seminar will provide an overview of the law\, including potential legal and reputational risks.<br />\n<br />\n<strong>Kyle Morrow</strong> practices political law at Fasken Martineau DuMoulin LLP. He advises clients on their compliance obligations in the areas of lobbying\, conflicts of interest\, campaign finance\, anti-bribery and corruption\, whistleblowing\, and procurement integrity. Kyle also defends clients who are being investigated or prosecuted for political offences.</span></span>\n<div class="OutlineElement Ltr  BCX7 SCXW5153289" font-size:="" segoe="" style="margin: 0px\; padding: 0px\; user-select: text\; -webkit-user-drag: none\; -webkit-tap-highlight-color: transparent\; overflow: visible\; cursor: text\; clear: both\; position: relative\; direction: ltr\; color: rgb(0\, 0\, 0)\; font-family: " ui="">\n<p class="paragraph" paraeid="{4ab6b6c2-6bca-47d2-b1ef-1b784c9ee72d}{171}" paraid="1521282541" style="margin:0cm\;margin-bottom:.0001pt\;vertical-align:baseline\;\nuser-select: text\;-webkit-user-drag: none\;-webkit-tap-highlight-color: transparent\;\noverflow-wrap: break-word">&nbsp\;</p>\n</div>\n
LOCATION:Webinar The webinar link will be forwarded to all registered attendees at or by 9:00 AM on June 16. This webinar is complimentary and open to everyone. You must register in advance.
UID:e.3330.1736
SEQUENCE:3
DTSTAMP:20260421T100544Z
URL:https://business.ottawabot.ca/events/details/webinar-is-your-business-inadvertently-lobbying-during-covid-19-1736
END:VEVENT

END:VCALENDAR
