BEGIN:VCALENDAR
VERSION:2.0
PRODID:-//ChamberMaster//Event Calendar 2.0//EN
METHOD:PUBLISH
X-PUBLISHED-TTL:P3D
REFRESH-INTERVAL:P3D
CALSCALE:GREGORIAN
BEGIN:VEVENT
DTSTART:20200421T150000Z
DTEND:20200421T160000Z
X-MICROSOFT-CDO-ALLDAYEVENT:FALSE
SUMMARY:Webinar: Leading a Virtual Team
DESCRIPTION:Leading a Virtual Team\n\n\n\nCOVID-19 has created new challenges for all companies many of which are learning how to continue to operate with remote workers. This webinar focuses on supporting remote-working manager-leaders. Firstly\, we'll explore self-leadership\, then how to lead the virtual team\, finally we'll consider the post COVID-19 world where ongoing remote working may offer benefits for companies and individuals.  This is about people\, not technology. \n\n\n\nGraham is Kingsford's people\, process and organization expert. He started his career as a military engineer in the UK where he developed expertise in the leadership of change\, and organizational knowledge and culture. He brings an eclectic mix of engineering\, management and consultancy skills built over 30 years of field experience. He uses these skills to support and coach our clients in the implementation of the plans and changes required for growth.
X-ALT-DESC;FMTTYPE=text/html:<span style="font-size:16px\;"><span style="font-family:arial\;"><strong>Leading a Virtual Team</strong></span></span><br />\n<br />\n<span style="font-size:12px\;"><span style="font-family:arial\;">COVID-19 has created new challenges for all companies many of which are learning how to continue to operate with remote workers. This webinar focuses on supporting remote-working manager-leaders. Firstly\, we&rsquo\;ll explore self-leadership\, then how to lead the virtual team\, finally we&rsquo\;ll consider the post COVID-19 world where ongoing remote working may offer benefits for companies and individuals.&nbsp\; This is about people\, not technology.&nbsp\;<br />\n<br />\nGraham is Kingsford&rsquo\;s people\, process and organization expert. He started his career as a military engineer in the UK where he developed expertise in the leadership of change\, and organizational knowledge and culture. He brings an eclectic mix of engineering\, management and consultancy skills built over 30 years of field experience. He uses these skills to support and coach our clients in the implementation of the plans and changes required for growth.&nbsp\;<br />\n&nbsp\;</span></span><br />\n<br />\n<br />\n&nbsp\;
LOCATION:Webinar. Registration link will be emailed prior to the event. You must register in advance.
UID:e.3330.1655
SEQUENCE:3
DTSTAMP:20260424T141410Z
URL:https://business.ottawabot.ca/events/details/webinar-leading-a-virtual-team-1655
END:VEVENT

END:VCALENDAR
