BEGIN:VCALENDAR
VERSION:2.0
PRODID:-//ChamberMaster//Event Calendar 2.0//EN
METHOD:PUBLISH
X-PUBLISHED-TTL:P3D
REFRESH-INTERVAL:P3D
CALSCALE:GREGORIAN
BEGIN:VEVENT
DTSTART:20200604T150000Z
DTEND:20200604T160000Z
X-MICROSOFT-CDO-ALLDAYEVENT:FALSE
SUMMARY:Webinar: Managing Debt in a Time of Uncertainty
DESCRIPTION:Managing Debt in Time of Uncertainty\n\n\nBusinesses across all industries and sectors are seeing varying levels of financial related crisis during this pandemic. There is no one sized fits all solution to address these diverse scenarios. Those in a low crisis state may look at remapping their debt repayment strategy or they may create a direct plan of action to ease external party concerns. Those in high crisis businesses may be looking for more drastic measures and will move to liquidate assets.\n\n \n\nHaving a full understanding of what options are available can be challenging. Should you consider restructuring? Receivership? Liquidation? How do you know what level of crisis your business may be in? MNP's John Haralovich will walk through some of the options available to business owners to help address business debt in the age of COVID-19.\n\n\n\n\n\n\n\nJohn Haralovich\, CIRP\, LIT\, CPA\, CA\, CMA\, CFE\, is a Senior Vice-President with MNP serving the  Ottawa region\, Eastern Ontario and Western Quebec. Drawing on more than three decades of of financial advisory experience\, John provides tailored solutions to individuals and companies experiencing financial difficulties. \n\n\n\nJohn   whose extensive experience includes corporate and consumer insolvency\, strategic and day-to-day financial management   performs risk assessments and business reviews\, budget preparation and analysis and business combinations and acquisitions for a wide range of industries. \n\n\n\nHe is skillful at successfully negotiating additional financial commitments\, extension of credit terms and / or amendments to existing credit facilities. John has served as a corporate restructuring officer\, securing institutional financing and negotiating debt settlements for Canadian and U.S. controlled companies. \n\n\n\nJohn is a Licensed Insolvency Trustee (LIT)\, Canadian Insolvency and Restructuring Professional (CIRP)\, Chartered Professional Accountant (CPA)\, qualifying as a  Chartered Accountant (CA). He is a Certified Management Accountant (CMA) and Certified Fraud Examiner (CFE).
X-ALT-DESC;FMTTYPE=text/html:<h1><span style="font-size:20px\;"><span style="font-family:tahoma\;">Managing Debt in Time of Uncertainty</span></span></h1>\n\n<div class="OutlineElement Ltr  BCX7 SCXW5153289" font-size:="" segoe="" style="margin: 0px\; padding: 0px\; user-select: text\; -webkit-user-drag: none\; -webkit-tap-highlight-color: transparent\; overflow: visible\; cursor: text\; clear: both\; position: relative\; direction: ltr\; color: rgb(0\, 0\, 0)\; font-family: " ui="">\n<p class="paragraph" paraeid="{4ab6b6c2-6bca-47d2-b1ef-1b784c9ee72d}{171}" paraid="1521282541" style="margin:0cm\;margin-bottom:.0001pt\;vertical-align:baseline\;\nuser-select: text\;-webkit-user-drag: none\;-webkit-tap-highlight-color: transparent\;\noverflow-wrap: break-word"><span style="font-size:14px\;"><span style="font-family:tahoma\;">Businesses across all industries and sectors are seeing varying levels of financial related crisis during this pandemic. There is no one sized fits all solution to address these diverse scenarios. Those in a low crisis state may look at remapping their debt repayment strategy or they may create a direct plan of action to ease external party concerns. Those in high crisis businesses may be looking for more drastic measures and will move to liquidate assets.<br />\n&nbsp\;<br />\nHaving a full understanding of what options are available can be challenging. Should you consider restructuring? Receivership? Liquidation? How do you know what level of crisis your business may be in? MNP&rsquo\;s John Haralovich will walk through some of the options available to business owners to help address business debt in the age of COVID-19.</span></span><br />\n<br />\n<br />\n<br />\n<span style="font-size:14px\;"><span style="font-family:tahoma\;"><strong>John Haralovich</strong>\, CIRP\, LIT\, CPA\, CA\, CMA\, CFE\, is a Senior Vice-President with MNP serving the&nbsp\; Ottawa region\, Eastern Ontario and Western Quebec. Drawing on more than three decades of of financial advisory experience\, John provides tailored solutions to individuals and companies experiencing financial difficulties.&nbsp\;<br />\n<br />\nJohn &mdash\; whose extensive experience includes corporate and consumer insolvency\, strategic and day-to-day financial management &mdash\; performs risk assessments and business reviews\, budget preparation and analysis and business combinations and acquisitions for a wide range of industries.&nbsp\;<br />\n<br />\nHe is skillful at successfully negotiating additional financial commitments\, extension of credit terms and / or amendments to existing credit facilities. John has served as a corporate restructuring officer\, securing institutional financing and negotiating debt settlements for Canadian and U.S. controlled companies.&nbsp\;<br />\n<br />\nJohn is a Licensed Insolvency Trustee (LIT)\, Canadian Insolvency and Restructuring Professional (CIRP)\, Chartered Professional Accountant (CPA)\, qualifying as a&nbsp\; Chartered Accountant (CA). He is a Certified Management Accountant (CMA) and Certified Fraud Examiner (CFE).</span></span></p>\n</div>\n
LOCATION:The webinar link will be forwarded to all registered attendees at or by 9:00 AM on June 4.
UID:e.3330.1715
SEQUENCE:3
DTSTAMP:20260421T100423Z
URL:https://business.ottawabot.ca/events/details/webinar-managing-debt-in-a-time-of-uncertainty-1715
END:VEVENT

END:VCALENDAR
