BEGIN:VCALENDAR
VERSION:2.0
PRODID:-//ChamberMaster//Event Calendar 2.0//EN
METHOD:PUBLISH
X-PUBLISHED-TTL:P3D
REFRESH-INTERVAL:P3D
CALSCALE:GREGORIAN
BEGIN:VEVENT
DTSTART:20200131T180000Z
DTEND:20200131T190000Z
X-MICROSOFT-CDO-ALLDAYEVENT:FALSE
SUMMARY:Webinar on CETA\, Canada's Free Trade Agreement with the European Union
DESCRIPTION:Discover the Canada-European Union Free Trade Agreement: the Comprehensive Economic and Trade Agreement (CETA)\, Canada's major FTA\, yet underutilized by Canadian businesses - join me on this interactive webinar January 31st from 1pm to 2pm
X-ALT-DESC;FMTTYPE=text/html:Discover the Canada-European Union Free Trade Agreement: the Comprehensive Economic and Trade Agreement (CETA)\, Canada&#39\;s major FTA\, yet underutilized by Canadian businesses - join me on this interactive webinar January 31st from 1pm to 2pm
LOCATION:On-line webinar
UID:e.3330.1595
SEQUENCE:3
DTSTAMP:20260424T210247Z
URL:https://business.ottawabot.ca/events/details/webinar-on-ceta-canada-s-free-trade-agreement-with-the-european-union-1595
END:VEVENT

END:VCALENDAR
