BEGIN:VCALENDAR
VERSION:2.0
PRODID:-//ChamberMaster//Event Calendar 2.0//EN
METHOD:PUBLISH
X-PUBLISHED-TTL:P3D
REFRESH-INTERVAL:P3D
CALSCALE:GREGORIAN
BEGIN:VEVENT
DTSTART:20200521T150000Z
DTEND:20200521T160000Z
X-MICROSOFT-CDO-ALLDAYEVENT:FALSE
SUMMARY:Webinar: Practical Guidance for Digitizing Your Finance Function
DESCRIPTION:Practical Guidance to Digitizing Your Finance Function \n\n\n\nThis session will focus on how digitizing can help an organization make a positive and practical shift\, zeroing in on the critical area of digitizing finance. We will aim to answer: What's driving this change (beyond the pandemic)? How to start the journey? What are the tools at your disposal? And what does the end result look like? It will be a practical session with specific tips on adoption.  \n\n\n\nMargo Crawford is the President\, CEO and founder of the Business Sherpa Group\; a business solutions company specializing in providing flexible consulting services to small and mid-sized enterprises in the areas of Human Resources\, Managed Recruitment\, Finance\, Bookkeeping and Executive Solutions. At Business Sherpa Group\, Margo and her team of more than 75 associates and 20 employees have been involved with over 400 SMEs throughout North America from formation stage through to sale. She is a dynamic business leader with 20+ years of experience in diverse and challenging environments (including high tech start up\, private\, public\, non-profit\, NGO\, unionized) and hopes to share her expertise and insights to help businesses and leaders focus\, grow and actualize potential. \n\n\n\nBrandon Brown\, CPA candidate\, is the Accounting Team Lead at Business Sherpa Group. He loves working with organizations eager to innovate as he is well versed in helping organizations digitize their finance function. By leveraging technology\, Brandon works to find efficiencies in workflows and effectively provide organizations with timely and accurate financial reports.
X-ALT-DESC;FMTTYPE=text/html:<span style="font-family:tahoma\;"><span style="color:#000000\;"><span style="font-size:18px\;"><strong>Practical Guidance to Digitizing Your Finance Function&nbsp\;</strong></span></span></span><br />\n<br />\n<span style="font-family:tahoma\;"><span style="font-size:11.0pt\;">This session will focus on how digitizing can help an organization make a positive and practical shift\, zeroing in on the critical area of digitizing finance. We will aim to answer: What&#39\;s driving this change (beyond the pandemic)? How to start the journey? What are the tools at your disposal? And what does the end result look like? It will be a practical session with specific tips on adoption.&nbsp\; </span></span><br />\n<br />\n<span style="font-family:tahoma\;"><span style="font-size:11.0pt\;"><strong>Margo Crawford</strong> is the President\, CEO and founder of the Business Sherpa Group\; a business solutions company specializing in providing flexible consulting services to small and mid-sized enterprises in the areas of Human Resources\, Managed Recruitment\, Finance\, Bookkeeping and Executive Solutions. At Business Sherpa Group\, Margo and her team of more than 75 associates and 20 employees have been involved with over 400 SMEs throughout North America from formation stage through to sale. She is a dynamic business leader with 20+ years of experience in diverse and challenging environments (including high tech start up\, private\, public\, non-profit\, NGO\, unionized) and hopes to share her expertise and insights to help businesses and leaders focus\, grow and actualize potential. </span><br />\n<br />\n<span style="font-size:14px\;"><strong>Brandon Brown</strong>\, CPA candidate\, is the Accounting Team Lead at Business Sherpa Group. He loves working with organizations eager to innovate as he is well versed in helping organizations digitize their finance function. By leveraging technology\, Brandon works to find efficiencies in workflows and effectively provide organizations with timely and accurate financial reports.&nbsp\;</span></span><br />\n&nbsp\;\n<div class="OutlineElement Ltr  BCX7 SCXW5153289" font-size:="" segoe="" style="margin: 0px\; padding: 0px\; user-select: text\; -webkit-user-drag: none\; -webkit-tap-highlight-color: transparent\; overflow: visible\; cursor: text\; clear: both\; position: relative\; direction: ltr\; color: rgb(0\, 0\, 0)\; font-family: " ui="">\n<p class="Paragraph SCXW5153289 BCX7" paraeid="{4ab6b6c2-6bca-47d2-b1ef-1b784c9ee72d}{161}" paraid="798846145" style="margin: 0px\; padding: 0px\; user-select: text\; -webkit-user-drag: none\; -webkit-tap-highlight-color: transparent\; overflow-wrap: break-word\; vertical-align: baseline\; background-color: transparent\; color: windowtext\;">&nbsp\;</p>\n\n<p class="paragraph" paraeid="{4ab6b6c2-6bca-47d2-b1ef-1b784c9ee72d}{167}" paraid="1164048764" style="margin:0cm\;margin-bottom:.0001pt\;vertical-align:baseline\;\nuser-select: text\;-webkit-user-drag: none\;-webkit-tap-highlight-color: transparent\;\noverflow-wrap: break-word"><span style="font-size:14px\;"><span style="font-size:14px\;"><span style="font-family:tahoma\;"><span data-contrast="auto" style="user-select: text\;-webkit-user-drag: none\;-webkit-tap-highlight-color: transparent\;\nfont-variant-ligatures: none !important" xml:lang="EN-CA"><span style="user-select: text\;\n-webkit-user-drag: none\;-webkit-tap-highlight-color: transparent\;background-color:\ninherit"><span data-ccp-props="{" style="user-select: text\;-webkit-user-drag: none\;-webkit-tap-highlight-color: transparent">&nbsp\;</span></span></span></span></span></span></p>\n\n<p class="paragraph" paraeid="{4ab6b6c2-6bca-47d2-b1ef-1b784c9ee72d}{171}" paraid="1521282541" style="margin:0cm\;margin-bottom:.0001pt\;vertical-align:baseline\;\nuser-select: text\;-webkit-user-drag: none\;-webkit-tap-highlight-color: transparent\;\noverflow-wrap: break-word">&nbsp\;</p>\n</div>\n
LOCATION:Webinar The webinar link will be forwarded to all registered attendees at or by 9:00 AM on May 21. This webinar is complimentary and open to everyone. You must register in advance.
UID:e.3330.1710
SEQUENCE:3
DTSTAMP:20260423T171017Z
URL:https://business.ottawabot.ca/events/details/webinar-practical-guidance-for-digitizing-your-finance-function-1710
END:VEVENT

END:VCALENDAR
