BEGIN:VCALENDAR
VERSION:2.0
PRODID:-//ChamberMaster//Event Calendar 2.0//EN
METHOD:PUBLISH
X-PUBLISHED-TTL:P3D
REFRESH-INTERVAL:P3D
CALSCALE:GREGORIAN
BEGIN:VEVENT
DTSTART:20200416T150000Z
DTEND:20200416T160000Z
X-MICROSOFT-CDO-ALLDAYEVENT:FALSE
SUMMARY:Webinar: Practical Guidance to HR Issues Relating to the COVID-19 Crisis
DESCRIPTION:Practical Guide to HR Issues Relating to the COVID-19 Crisis\n\n\n\nJoin Karen Brownrigg\, CHRL\, CEC\, Founder & CEO of iHR Advisory Services as she provides practical guidance on HR issues\, and how to be compliant with employment legislation as you make changes to employee working hours and schedules.\n\n\n\nKaren is an accomplished human resources leader\, certified executive coach and business strategist with more than two decades of experience leading transformational\, mission-critical\, security-sensitive and crisis management issues and initiatives. Over the years\, she has worked in the legal\, telecommunications and not-for-profit health care sectors\, with the Ottawa Police Service\, and for a Federal Crown Corporation in the financial sector.\n\n \n\nKaren's career path has required her to adapt to local\, national and global environments\, where she has channeled strategic\, leadership and coaching skills and an advanced understanding of employee and labour relations\, change management\, conflict resolution\, organizational health\, safety and wellness\, and talent management.\n\n \n\nIn 2016\, Karen refocused her passion for "human resourcefulness" by launching iHR Advisory Services  providing HR and "people solutions" for growing businesses and supported by an agile community of HR and business experts whom she enlists from across Canada.
X-ALT-DESC;FMTTYPE=text/html:<span style="font-size: 14px\;"><span style="font-size:16px\;"><b>Practical Guide to HR Issues Relating to the COVID-19 Crisis</b></span><br />\n<br />\n<span style="font-size:12px\;">Join Karen Brownrigg\, CHRL\, CEC\, Founder &amp\; CEO of iHR Advisory Services as she provides practical guidance on HR issues\, and how to be compliant with employment legislation as you make changes to employee working hours and schedules.</span></span><br />\n<br />\n<span style="font-size:12px\;">Karen is an accomplished human resources leader\, certified executive coach and business strategist with more than two decades of experience leading transformational\, mission-critical\, security-sensitive and crisis management issues and initiatives. Over the years\, she has worked in the legal\, telecommunications and not-for-profit health care sectors\, with the Ottawa Police Service\, and for a Federal Crown Corporation in the financial sector.<br />\n&nbsp\;<br />\nKaren&rsquo\;s career path has required her to adapt to local\, national and global environments\, where she has channeled strategic\, leadership and coaching skills and an advanced understanding of employee and labour relations\, change management\, conflict resolution\, organizational health\, safety and wellness\, and talent management.<br />\n&nbsp\;<br />\nIn 2016\, Karen refocused her passion for &ldquo\;human resourcefulness&rdquo\; by launching iHR Advisory Services&mdash\; providing HR and &ldquo\;people solutions&rdquo\; for growing businesses and supported by an agile community of HR and business experts whom she enlists from across Canada.</span><br />\n<br />\n<br />\n&nbsp\;
LOCATION:Webinar. Registration link will be emailed prior to the event. You must register in advance.
UID:e.3330.1653
SEQUENCE:3
DTSTAMP:20260424T142117Z
URL:https://business.ottawabot.ca/events/details/webinar-practical-guidance-to-hr-issues-relating-to-the-covid-19-crisis-1653
END:VEVENT

END:VCALENDAR
