BEGIN:VCALENDAR
VERSION:2.0
PRODID:-//ChamberMaster//Event Calendar 2.0//EN
METHOD:PUBLISH
X-PUBLISHED-TTL:P3D
REFRESH-INTERVAL:P3D
CALSCALE:GREGORIAN
BEGIN:VEVENT
DTSTART:20200618T150000Z
DTEND:20200618T160000Z
X-MICROSOFT-CDO-ALLDAYEVENT:FALSE
SUMMARY:Webinar: Rebound Readiness Done Right - Why iQ Offices is Poised for Success & How They Got There
DESCRIPTION:Rebound Readiness Done Right   Why iQ Offices is Poised for Success & How They Got There\n\nJoins us as Kane Willmott leads a discussion with special guest Scott Ashley of Get Ready Global on what iQ Offices did to prepare for their rebound\, recovery and reopening!\n\nKane will share his rebound readiness journey and how it culminated in iQ Office's Workplace Acclimation Plan. Kane has generously offered to walk us through his WAP - once you see it\, you will understand why iQ Offices is poised for rebound success.\n\n\n\nKane Willmott is the Co-Founder and CEO of iQ Offices\, a luxury coworking brand with locations across Canada in Toronto\, Montreal\, Ottawa\, Calgary and Vancouver. He is passionate about creating experiential environments where top performers are inspired to do their best work.\n\n\n\nKane also served a two-year term as President of the Global Workspace Association (GWA) with membership that includes many of the top performing coworking spaces around the world.\n\n\n\nKane is a registered real estate broker with 20 years of experience in the real estate industry. His real estate background\, experience in growing iQ from one to nine locations along with his position in the\n\nGWA have provided him with unique insights into the trends\, benchmarks and opportunities of this rapidly growing industry.\n\n\n\nScott Ashley is the President and co-founder of Get Ready Inc. Scott's strong belief is to separate policies from procedures and truly "operationalize" these often complex\, policy-based programs into response-ready capabilities.\n\n\n\nHe has over twelve years experience in EMS from his early years as a paramedic where he worked in Alberta\, Los Angeles\, Toronto and for eight years as a Critical Care Flight Paramedic on the Bandage One helicopter based in Toronto. Since that time Scott has founded companies that focused on first aid training\, emergency Management\, BCP and Pandemic planning. Scott developed pandemic plans for many Fortune 500 clients\, professional services firms and medium size companies.
X-ALT-DESC;FMTTYPE=text/html:<span style="font-size:18px\;"><span style="font-family:tahoma\;"><span class="JsGRdQ">Rebound Readiness Done Right &ndash\; Why iQ Offices is Poised for Success &amp\; How They Got There</span></span></span>\n<div class="OutlineElement Ltr  BCX7 SCXW5153289" font-size:="" segoe="" style="margin: 0px\; padding: 0px\; user-select: text\; -webkit-user-drag: none\; -webkit-tap-highlight-color: transparent\; overflow: visible\; cursor: text\; clear: both\; position: relative\; direction: ltr\;" ui="">\n<p style="color: rgb(0\, 0\, 0)\;">Joins us as Kane Willmott leads a discussion with special guest Scott Ashley of Get Ready Global on what iQ Offices did to prepare for their rebound\, recovery and reopening!</p>\n\n<p style=""><font color="#000000">Kane will share his rebound readiness journey and how it culminated in iQ Office&#39\;s Workplace Acclimation Plan. Kane has generously offered&nbsp\;to walk us through his WAP - once you see it\, you will understand why iQ Offices is poised for rebound success.</font><br />\n<br />\n<strong>Kane Willmott</strong> is the Co-Founder and CEO of iQ Offices\, a luxury coworking&nbsp\;brand with locations across Canada in Toronto\, Montreal\, Ottawa\, Calgary&nbsp\;and Vancouver. He is passionate about creating experiential environments&nbsp\;where top performers are inspired to do their best work.<br />\n<br />\nKane also served a two-year term as President of the Global Workspace&nbsp\;Association (GWA) with membership that includes many of the top&nbsp\;performing coworking spaces around the world.<br />\n<br />\nKane is a registered real estate broker with 20 years of experience in the real&nbsp\;estate industry. His real estate background\, experience in growing iQ&nbsp\;from one to nine locations along with his position in the<br />\nGWA have provided him with unique insights into the&nbsp\;trends\, benchmarks and opportunities&nbsp\;of this rapidly growing industry.<br />\n<br />\n<strong>Scott Ashley</strong> is the President and co-founder of Get Ready Inc. Scott&rsquo\;s strong belief is to separate policies from procedures and truly &ldquo\;operationalize&rdquo\; these often complex\, policy-based programs into response-ready capabilities.<br />\n<br />\nHe has over twelve years experience in EMS from his early years as a paramedic where he worked in Alberta\, Los Angeles\, Toronto and for eight years as a Critical Care Flight Paramedic on the Bandage One helicopter based in Toronto. Since that time Scott has founded companies that focused on first aid training\, emergency Management\, BCP and Pandemic planning. Scott developed pandemic plans for many Fortune 500 clients\, professional services firms and medium size companies.&nbsp\;</p>\n\n<div>\n<p paraeid="{0025a662-6ad0-4931-8266-5053c3fff356}{185}" paraid="1068955347">&nbsp\;</p>\n</div>\n\n<div>\n<p paraeid="{0025a662-6ad0-4931-8266-5053c3fff356}{189}" paraid="1764220200">&nbsp\;</p>\n</div>\n\n<div>\n<p paraeid="{0025a662-6ad0-4931-8266-5053c3fff356}{193}" paraid="1707464065">&nbsp\;</p>\n</div>\n\n<p>&nbsp\;</p>\n</div>\n
LOCATION:Webinar The webinar link will be forwarded to all registered attendees at or by 9:00 AM on June 18. This webinar is complimentary and open to everyone. You must register in advance.
UID:e.3330.1745
SEQUENCE:3
DTSTAMP:20260421T100516Z
URL:https://business.ottawabot.ca/events/details/webinar-rebound-readiness-done-right-why-iq-offices-is-poised-for-success-how-they-got-there-1745
END:VEVENT

END:VCALENDAR
