BEGIN:VCALENDAR
VERSION:2.0
PRODID:-//ChamberMaster//Event Calendar 2.0//EN
METHOD:PUBLISH
X-PUBLISHED-TTL:P3D
REFRESH-INTERVAL:P3D
CALSCALE:GREGORIAN
BEGIN:VEVENT
DTSTART:20200526T150000Z
DTEND:20200526T160000Z
X-MICROSOFT-CDO-ALLDAYEVENT:FALSE
SUMMARY:Webinar: Rethinking Your Business
DESCRIPTION:Rethinking Your Business\n\n\nResponding to this crisis effectively is essential. And that means looking beyond in the current Response Phase and to the future. All indicators are that many of the behavioural changes we are seeing will become permanent. That means rethinking the fundamentals of your business. What you do. How you see yourself. What needs to change. Rhapsody Strategies will be helping you focus on what key issues you need to be addressing and sharing valuable resources and methodologies that you can use to prepare for a post-COVID-19 world.\n\n\n\nRob Dale\n\nWhen it comes to business\, I have one primary passion: to help entrepreneurs recognize and achieve their potential. I provide clients with powerful tools and valuable advice to streamline their path to success. And I help my clients build their businesses into the kinds of organizations that far exceed their expectations. My clients frequently express gratitude and relief\, because they finally feel like there's someone in their corner who gets them. Gets what they're trying to do. Someone who's got the tools to help them overcome the obstacles they're facing.\n\n\n\nEric Deschamps\n\nThroughout my career I've always sought to inspire individuals and organizations to reject mediocrity and reach for greatness. Clients come to me because they're stuck. Regardless of what's holding them back\, they want to get better results and break through to new levels of impact and success. I'm fueled by a passion to help people achieve their full potential and make a significant impact on the world around them. And I'm at my best when engaged in honest\, courageous conversations about personal and organizational transformation. I ask the tough questions and make it safe for my clients to explore difficult issues. When they are willing to be honest and authentic\, willing to take action to bring about positive change\, their organizations can achieve powerful\, transformational results.\n\n\n\nTrefor Munn-Venn\n\nI think we all get in to business to make a difference. We want to do something meaningful. We want to support our communities\, our families\, or help others. I'm the same. Having the chance to take on a serious challenge that has the possibility of genuinely affecting others is such an honour. Whether it's providing strategic guidance to major organizations around the world\, helping entrepreneurs get started\, or working with business owners to rebuild their companies\, I'm at my best when we have our sleeves rolled up working together.
X-ALT-DESC;FMTTYPE=text/html:<h1><span style="color:#000000\;"><span style="font-size:20px\;"><span style="font-family:tahoma\;">Rethinking Your Business</span></span></span></h1>\n\n<div class="OutlineElement Ltr  BCX7 SCXW5153289" font-size:="" segoe="" style="margin: 0px\; padding: 0px\; user-select: text\; -webkit-user-drag: none\; -webkit-tap-highlight-color: transparent\; overflow: visible\; cursor: text\; clear: both\; position: relative\; direction: ltr\; color: rgb(0\, 0\, 0)\; font-family: " ui="">\n<p class="paragraph" paraeid="{4ab6b6c2-6bca-47d2-b1ef-1b784c9ee72d}{171}" paraid="1521282541" style="margin:0cm\;margin-bottom:.0001pt\;vertical-align:baseline\;\nuser-select: text\;-webkit-user-drag: none\;-webkit-tap-highlight-color: transparent\;\noverflow-wrap: break-word"><span style="color:#000000\;"><span style="font-size:14px\;"><span style="font-family:tahoma\;">Responding to this crisis effectively is essential. And that means looking beyond in the current Response Phase and to the future. All indicators are that many of the behavioural changes we are seeing will become permanent. That means rethinking the fundamentals of your business. What you do. How you see yourself. What needs to change. Rhapsody Strategies will be helping you focus on what key issues you need to be addressing and sharing valuable resources and methodologies that you can use to prepare for a post-COVID-19 world.<br />\n<br />\n<strong>Rob Dale</strong><br />\nWhen it comes to business\, I have one primary passion: to help entrepreneurs recognize and achieve their potential. I provide clients with powerful tools and valuable advice to streamline their path to success. And I help my clients build their businesses into the kinds of organizations that far exceed their expectations.&nbsp\;My clients frequently express gratitude and relief\, because they finally feel like there&rsquo\;s someone in their corner who gets them. Gets what they&rsquo\;re trying to do. Someone who&rsquo\;s got the tools to help them overcome the obstacles they&rsquo\;re facing.<br />\n<br />\n<strong>Eric Deschamps</strong><br />\nThroughout my career I&rsquo\;ve always sought to inspire individuals and organizations to reject mediocrity and reach for greatness. Clients come to me because they&rsquo\;re stuck. Regardless of what&rsquo\;s holding them back\, they want to get better results and break through to new levels of impact and success. I&rsquo\;m fueled by a passion to help people achieve their full potential and make a significant impact on the world around them. And I&rsquo\;m at my best when engaged in honest\, courageous conversations about personal and organizational transformation. I ask the tough questions and make it safe for my clients to explore difficult&nbsp\;issues. When they are willing to be honest and authentic\, willing to take action to bring about positive change\, their organizations can achieve powerful\, transformational results.<br />\n<br />\n<strong>Trefor Munn-Venn</strong><br />\n<span style="font-variant-ligatures:normal\;">I think we all get in to business to make a difference. We want to do something meaningful. We want to support our communities\, our families\, or help others. I&rsquo\;m the same. Having the chance to take on a serious challenge that has the possibility of genuinely affecting others is such an honour. Whether it&rsquo\;s providing strategic guidance to major organizations around the world\, helping entrepreneurs get started\, or working with business owners to rebuild their companies\, I&rsquo\;m at my best when we have our sleeves rolled up working together.</span></span></span></span><br />\n<br />\n<br />\n<br />\n<br />\n<br />\n&nbsp\;</p>\n</div>\n
LOCATION:The webinar link will be forwarded to all registered attendees at or by 9:00 AM on May 26.
UID:e.3330.1716
SEQUENCE:3
DTSTAMP:20260424T140435Z
URL:https://business.ottawabot.ca/events/details/webinar-rethinking-your-business-1716
END:VEVENT

END:VCALENDAR
