BEGIN:VCALENDAR
VERSION:2.0
PRODID:-//ChamberMaster//Event Calendar 2.0//EN
METHOD:PUBLISH
X-PUBLISHED-TTL:P3D
REFRESH-INTERVAL:P3D
CALSCALE:GREGORIAN
BEGIN:VEVENT
DTSTART:20200625T150000Z
DTEND:20200625T160000Z
X-MICROSOFT-CDO-ALLDAYEVENT:FALSE
SUMMARY:Webinar: What you Need to Know About Temporary Layoffs and Return to Work
DESCRIPTION:What you Need to Know About Temporary Layoffs and Return to Work\n\n\n\nOntario recently introduced a new Regulation to address the effect of the deemed termination provisions of temporary layoffs under the Employment Standards Act that had many employers increasingly worried as the 13-week threshold loomed.\n\n\n\nIn this session\, Kecia Podetz and J.D. Sharp will explain the new Regulation\, its novel approach\, its benefits and limitations\, and how it will affect your workforce. They will also address related return to work considerations as the province prepares for Stage 2 of its reopening plan.\n\n \n\nKecia Podetz\, a partner with Emond Harnden LLP\, is an experienced advocate who represents her clients in formal and informal settings\, including grievance arbitration and human rights proceedings\, mediations\, interest arbitrations and in employment-related litigation. Her clients include those in the not-for-profit\, health\, manufacturing\, technology and professional services sectors\, as well as First Nation governments and related organizations.  \n\n \n\nKecia is passionate about providing guidance and advice to her clients in their day-to-day human resources matters\, including statutory compliance\, development and review of employment agreements and policies\, managing employee accommodation and return to work\, attendance management\, investigations and other matters that may lead to discipline or dismissal. Kecia's experience combined with her plain language approach and engaging manner means that she is frequently called upon to conduct training sessions and to deliver seminars and workshops.\n\n \n\nJ.D. Sharp\, a partner with Emond Harnden LLP\, is a firm believer in management rights and his practice is devoted to supporting employers in effectively managing the human resources side of their organizations. He provides both public and private sector clients with strategic advice\, representation and counsel regarding labour\, employment\, human rights\, health & safety and other employment-related areas of the law. \n\n \n\nJ.D. practices mainly in the areas of labour and employment law with a particular emphasis on advocacy and litigation. In addition to providing counsel in various rights arbitrations and Labour Relations Board proceedings\, he advises and represents employers on matters of labour and employment\, WSIB and health and safety matters\, human rights and collective bargaining and all matters related to human resources.
X-ALT-DESC;FMTTYPE=text/html:<span style="font-size:18px\;"><span style="font-family:tahoma\;">What you Need to Know About Temporary Layoffs and Return to Work</span></span><br />\n<br />\n<span style="font-family:tahoma\;">Ontario recently introduced a new Regulation to address the effect of the deemed termination provisions of temporary layoffs under the <em>Employment Standards Act</em> that had many employers increasingly worried as the 13-week threshold loomed.<br />\n<br />\nIn this session\, Kecia Podetz and J.D. Sharp will explain the new Regulation\, its novel approach\, its benefits and limitations\, and how it will affect your workforce. They will also address related return to work considerations as the province prepares for Stage 2 of its reopening plan.<br />\n&nbsp\;<br />\n<span style="font-size:11.0pt\;"><strong>Kecia Podetz\,&nbsp\;</strong></span><span style="font-size:14px\;">a partner with Emond Harnden LLP\,&nbsp\;</span><span style="font-size:11.0pt\;">is an experienced advocate who represents her clients in formal and informal settings\, including grievance arbitration and human rights proceedings\, mediations\, interest arbitrations and in employment-related litigation. Her clients include those in the not-for-profit\, health\, manufacturing\, technology and professional services sectors\, as well as First Nation governments and related organizations.&nbsp\; </span><br />\n&nbsp\;<br />\n<span style="font-size:11.0pt\;">Kecia is passionate about providing guidance and advice to her clients in their day-to-day human resources matters\, including statutory compliance\, development and review of employment agreements and policies\, managing employee accommodation and return to work\, attendance management\, investigations and other matters that may lead to discipline or dismissal. Kecia&rsquo\;s experience combined with her plain language approach and engaging manner means that she is frequently called upon to conduct training sessions and to deliver seminars and workshops.</span><br />\n&nbsp\;</span>\n<div class="OutlineElement Ltr  BCX7 SCXW5153289" font-size:="" segoe="" style="margin: 0px\; padding: 0px\; user-select: text\; -webkit-user-drag: none\; -webkit-tap-highlight-color: transparent\; overflow: visible\; cursor: text\; clear: both\; position: relative\; direction: ltr\; color: rgb(0\, 0\, 0)\; font-family: " ui="">\n<p class="paragraph" paraeid="{4ab6b6c2-6bca-47d2-b1ef-1b784c9ee72d}{171}" paraid="1521282541" style="margin:0cm\;margin-bottom:.0001pt\;vertical-align:baseline\;\nuser-select: text\;-webkit-user-drag: none\;-webkit-tap-highlight-color: transparent\;\noverflow-wrap: break-word"><span style="font-family:tahoma\;"><span style="font-size:11.0pt\;"><strong>J.D. Sharp</strong>\, a partner with Emond Harnden LLP\, is a firm believer in management rights and his practice is devoted to supporting employers in effectively managing the human resources side of their organizations. He provides both public and private sector clients with strategic advice\, representation and counsel regarding labour\, employment\, human rights\, health &amp\; safety and other employment-related areas of the law. </span><br />\n&nbsp\;<br />\n<span style="font-size:11.0pt\;">J.D. practices mainly in the areas of labour and employment law with a particular emphasis on advocacy and litigation. In addition to providing counsel in various rights arbitrations and Labour Relations Board proceedings\, he advises and represents employers on matters of labour and employment\, WSIB and health and safety matters\, human rights and collective bargaining and all matters related to human resources.</span></span><br />\n&nbsp\;</p>\n</div>\n
LOCATION:The webinar link will be forwarded to all registered attendees at or by 9:00 AM on June 25.
UID:e.3330.1751
SEQUENCE:3
DTSTAMP:20260421T083446Z
URL:https://business.ottawabot.ca/events/details/webinar-what-you-need-to-know-about-temporary-layoffs-and-return-to-work-1751
END:VEVENT

END:VCALENDAR
