BEGIN:VCALENDAR
VERSION:2.0
PRODID:-//ChamberMaster//Event Calendar 2.0//EN
METHOD:PUBLISH
X-PUBLISHED-TTL:P3D
REFRESH-INTERVAL:P3D
CALSCALE:GREGORIAN
BEGIN:VEVENT
DTSTART:20200603T170000Z
DTEND:20200603T180000Z
X-MICROSOFT-CDO-ALLDAYEVENT:FALSE
SUMMARY:Wellness Wednesday: 5 Key Strategies to Help Support Your Immune System
DESCRIPTION:5 Key Strategies to Help Support Your Immune System\n\n\n\nWe are going through very uncertain times right now. We are social distancing\, staying home and worrying about our health and our livelihood. If you are feeling afraid and powerless\, there are strategies you can implement for you and your family in order to stay healthy.\n\n\n\nIn addition to the current practices that are being suggested by health officials\, you can be more proactive with your own health and fortify your body and immune system with these 5 key strategies\n\n\n\nHeather Weddell is a certified educator and Registered Holistic Nutritionist focusing on health and vitality. She is passionate about supporting others in prioritizing self-care and optimizing their health through nutrition and practical lifestyle choices. She is the owner of Heather Weddell Nutrition and live in the northwest end of Ottawa with her loving spouse Geoff and her beautiful German Shepherd Sofie. She has 2 amazing children who have grown up and flown the nest. She enjoys testing new recipes in her kitchen\, travelling with Geoff (missing that at the moment)\, and long walks with Sofie (lots and lots of those these days!)\n\n\n\n \n\n\nProudly sponsored by iHR Advisory Services.
X-ALT-DESC;FMTTYPE=text/html:<span style="font-family:tahoma\;"><span style="font-size:18px\;">5 Key Strategies to Help Support Your Immune System</span><br />\n<br />\n<span style="font-size:14px\;">We are going through very uncertain times right now. We are social distancing\, staying home and worrying about our health and our livelihood.&nbsp\;If you are feeling afraid and powerless\, there are strategies you can implement for you and your family in order to stay healthy.<br />\n<br />\nIn addition to the&nbsp\;current practices that are being suggested by health officials\,&nbsp\;you can be more proactive with your own health and fortify your body and immune system with these 5 key strategies<br />\n<br />\n<span style="background:white\;">Heather Weddell is a certified educator and Registered Holistic Nutritionist focusing on health and vitality. She is passionate about supporting others in prioritizing self-care and optimizing their health through nutrition and practical lifestyle choices. She is the owner of Heather Weddell Nutrition and live in the northwest end of Ottawa with her loving spouse Geoff and her beautiful German Shepherd Sofie.&nbsp\;She has 2 amazing children who have grown up and&nbsp\;flown the nest.&nbsp\;She enjoys testing new recipes in her kitchen\,&nbsp\;travelling with Geoff (missing that at the moment)\, and long walks with Sofie (lots and lots of those these days!)</span></span></span><br />\n<br />\n&nbsp\;\n<p style="box-sizing: inherit\; margin: 0px\; padding: 0px\; border: 0px\; font-size: inherit\; vertical-align: baseline\; background: transparent\; line-height: 1.5\; color: rgba(0\, 0\, 0\, 0.9)\; cursor: text\; counter-reset: list-1 0 list-2 0 list-3 0 list-4 0 list-5 0 list-6 0 list-7 0 list-8 0 list-9 0\;"><br />\n<span style="font-size:14px\;"><span style="font-family:tahoma\;">Proudly sponsored by iHR Advisory Services.</span></span></p>\n
LOCATION:Webinar The webinar link will be emailed to registered guests. You must register in advance.
UID:e.3330.1741
SEQUENCE:3
DTSTAMP:20260421T085250Z
URL:https://business.ottawabot.ca/events/details/wellness-wednesday-5-key-strategies-to-help-support-your-immune-system-1741
END:VEVENT

END:VCALENDAR
