BEGIN:VCALENDAR
VERSION:2.0
PRODID:-//ChamberMaster//Event Calendar 2.0//EN
METHOD:PUBLISH
X-PUBLISHED-TTL:P3D
REFRESH-INTERVAL:P3D
CALSCALE:GREGORIAN
BEGIN:VEVENT
DTSTART:20200527T170000Z
DTEND:20200527T180000Z
X-MICROSOFT-CDO-ALLDAYEVENT:FALSE
SUMMARY:Wellness Wednesday: Get Motivated
DESCRIPTION:Get Motivated!\n\n \nEver decide to do a workout but have a hard time sticking with it? Or find yourself just not having the time or energy to work out?  Many people have found it difficult to get motivated or stay motivated right now.  Join FFF as they dive deep into solving that for you. \n\n\n\nGavin Broomes B.Sc. (Exci. Sci.)\n\nNeuro-Rehabilitation Specialist\n\nBiomechanical Rehabilitation Therapist\n\nPersonal Trainer   Free Form Fitness\n\n\n\n\n\nAs a graduate of the Department of Exercise Science\; Athletic Therapy program at Concordia University in 1997\, Gavin has been engaged in the active exploration of health\, fitness\, rehabilitation\, and advanced movement disorders for the last 25 years.\n\n \n\nSpecializing in complex injury analysis and neurological / neurodevelopmental disorders\, he has worked across a broad spectrum of individuals around the world from high performance athletes to the most profoundly affected children with severe neurological conditions. As a former teaching assistant in anatomy and lab instructor in strength & conditioning at Concordia university\, he brings his passion for teaching (and sharing) the complexities of human movement to various seminar and training events.\n\n\n\n\n\nProudly sponsored by iHR Advisory Services.
X-ALT-DESC;FMTTYPE=text/html:<span style="font-size:18px\;"><span style="font-family:arial\;">Get Motivated!</span></span><br />\n&nbsp\;\n<p style="box-sizing: inherit\; margin: 0px\; padding: 0px\; border: 0px\; font-size: inherit\; vertical-align: baseline\; background: transparent\; line-height: 1.5\; color: rgba(0\, 0\, 0\, 0.9)\; cursor: text\; counter-reset: list-1 0 list-2 0 list-3 0 list-4 0 list-5 0 list-6 0 list-7 0 list-8 0 list-9 0\;"><span style="font-size:14px\;"><span style="font-family:tahoma\;">Ever decide to do a workout but have&nbsp\;a hard time sticking with it? Or find yourself just not having the time or energy to work out?&nbsp\; Many people have found it difficult to get motivated or stay motivated right now.&nbsp\; Join FFF as they dive deep into solving that for you.&nbsp\;<br />\n<br />\n<strong>Gavin Broomes</strong> B.Sc. (Exci. Sci.)<br />\nNeuro-Rehabilitation Specialist<br />\nBiomechanical Rehabilitation Therapist<br />\nPersonal Trainer &ndash\; Free Form Fitness<br />\n<br />\n<br />\nAs a graduate of the Department of Exercise Science\; Athletic Therapy program at Concordia University in 1997\, Gavin has been engaged in the active exploration of health\, fitness\, rehabilitation\, and advanced movement disorders for the last 25 years.<br />\n&nbsp\;<br />\nSpecializing in complex injury analysis and neurological / neurodevelopmental disorders\, he has worked across a broad spectrum of individuals around the world from high performance athletes to the most profoundly affected children with severe neurological conditions. As a former teaching assistant in anatomy and lab instructor in strength &amp\; conditioning at Concordia university\, he brings his passion for teaching (and sharing) the complexities of human movement to various seminar and training events.<br clear="all" />\n<br />\n<br />\nProudly sponsored by iHR Advisory Services.</span></span></p>\n
LOCATION:Webinar The webinar link will be emailed to registered guests. You must register in advance.
UID:e.3330.1734
SEQUENCE:3
DTSTAMP:20260424T141613Z
URL:https://business.ottawabot.ca/events/details/wellness-wednesday-get-motivated-1734
END:VEVENT

END:VCALENDAR
