BEGIN:VCALENDAR
VERSION:2.0
PRODID:-//ChamberMaster//Event Calendar 2.0//EN
METHOD:PUBLISH
X-PUBLISHED-TTL:P3D
REFRESH-INTERVAL:P3D
CALSCALE:GREGORIAN
BEGIN:VEVENT
DTSTART:20200520T170000Z
DTEND:20200520T180000Z
X-MICROSOFT-CDO-ALLDAYEVENT:FALSE
SUMMARY:Wellness Wednesday: Get Outside!
DESCRIPTION:Get Outside!\n\n\n\nJoin Dr. Vera Etches\, Medical Officer of Health with Ottawa Public Health as she discusses the importance of getting outside on our physical and mental well-being.  Dr. Etches will share how you can take advantage of the beautiful weather while still respecting physical distancing.\n\n\n\nDr. Etches will also walk us through the proper use of non-medical masks\, including when and how to wear one and the proper care of reusable masks.\n\n\n\n\nProudly sponsored by iHR Advisory Services.
X-ALT-DESC;FMTTYPE=text/html:<span style="font-size:18px\;"><span style="font-family:arial\;">Get Outside!</span></span><br />\n<br />\n<span style="font-size:14px\;"><span style="font-family:tahoma\;">Join Dr. Vera Etches\, Medical Officer of Health with Ottawa Public Health as she discusses the importance of getting outside on our physical and mental well-being.&nbsp\; Dr. Etches will share how you can take advantage of the beautiful weather while still respecting physical distancing.<br />\n<br />\nDr. Etches will also walk us through the proper use of non-medical masks\, including when and how to wear one and the proper care of reusable masks.</span></span>\n<p style="box-sizing: inherit\; margin: 0px\; padding: 0px\; border: 0px\; font-size: inherit\; vertical-align: baseline\; background: transparent\; line-height: 1.5\; color: rgba(0\, 0\, 0\, 0.9)\; cursor: text\; counter-reset: list-1 0 list-2 0 list-3 0 list-4 0 list-5 0 list-6 0 list-7 0 list-8 0 list-9 0\;"><br />\n<br />\n<span style="font-size:14px\;"><span style="font-family:arial\;"><span style="font-family:tahoma\;">Proudly sponsored by iHR Advisory Services.</span></span></span></p>\n
LOCATION:Webinar The webinar link will be emailed to registered guests. You must register in advance.
UID:e.3330.1718
SEQUENCE:3
DTSTAMP:20260424T141629Z
URL:https://business.ottawabot.ca/events/details/wellness-wednesday-get-outside-1718
END:VEVENT

END:VCALENDAR
