BEGIN:VCALENDAR
VERSION:2.0
PRODID:-//ChamberMaster//Event Calendar 2.0//EN
METHOD:PUBLISH
X-PUBLISHED-TTL:P3D
REFRESH-INTERVAL:P3D
CALSCALE:GREGORIAN
BEGIN:VEVENT
DTSTART:20200610T170000Z
DTEND:20200610T180000Z
X-MICROSOFT-CDO-ALLDAYEVENT:FALSE
SUMMARY:Wellness Wednesday: Returning to Work: Understanding and Managing COVID-19 Related Anxiety
DESCRIPTION:Returning to Work: Understanding and Managing COVID-19 Related Anxiety\n\n\n\nAre you feeling anxious thinking about returning to the office? What will social distancing look like in the lunchroom?\n\n \n\nIf you feel like your anxiety level is going up . you are not alone. For months\, we've been told to socially isolate from families\, friends and colleagues because of the dangers of a virus we still don't understand or control. It has instilled fear in all of us and governed our day-to-day lives. \n\n \n\nThis webinar will focus on understanding fear\, recognizing our reactions and strategies in fostering a positive mindset as we move forward to a new normal in the office.\n\n\n\nNicole Loreto holds a Doctorate in Health Psychology from Walden University\, a Master of Science in Communications\, Management and Public Affairs at Syracuse University and a Bachelor of Social Work from Laurentian University. She brings a wealth of experience in mental health promotion\, prevention and advocacy. Nicole spent more than two decades working with children\, youth and women in developing resiliency and healthier life pathways.\n\n\n\nNicole is a fervent promoter of positive psychology\, recognized for creating the award-winning Conversations at The Royal and the Is It Just Me? education series designed to start open\, informal conversations with youth on mental wellness and mental health problems. While at The Royal\, Nicole and colleagues designed two apps\, Healthy Minds and Game ready\, fostering positive coping skills and mental wellness. Nicole is a recipient of Ottawa's 40 Under 40 Award.\n\n \n\n\nProudly sponsored by iHR Advisory Services.
X-ALT-DESC;FMTTYPE=text/html:<span style="font-size:18px\;"><span style="font-family:tahoma\;">Returning to Work: Understanding and Managing COVID-19 Related Anxiety</span></span><br />\n<br />\n<span style="font-size:14px\;"><span style="font-family:tahoma\;"><strong>Are you feeling anxious thinking about returning to the office? What will social distancing look like in the lunchroom?</strong><br />\n&nbsp\;<br />\nIf you feel like your anxiety level is going up&hellip\;. you are not alone. <span style="color:#0E101A\;">For months\, we&rsquo\;ve been told to socially isolate from families\, friends and colleagues because of the dangers of a virus we still don&rsquo\;t understand or control. It has instilled fear in all of us and governed our day-to-day lives. </span><br />\n&nbsp\;<br />\n<span style="color:#0E101A\;">This webinar will focus on understanding fear\, recognizing our reactions and strategies in fostering a positive mindset as we move forward to a new normal in the office.<br />\n<br />\nNicole Loreto holds a Doctorate in Health Psychology from Walden University\, a Master of Science in Communications\, Management and Public Affairs at Syracuse University and a Bachelor of Social Work from Laurentian University. She brings a wealth of experience in mental health promotion\, prevention and advocacy. Nicole spent more than two decades working with children\, youth and women in developing resiliency and healthier life pathways.<br />\n<br />\nNicole is a fervent promoter of positive psychology\, recognized for creating the award-winning Conversations at The Royal and the <em>Is It Just Me?</em> education series designed to start open\, informal conversations with youth on mental wellness and mental health problems. While at The Royal\, Nicole and colleagues designed two apps\, Healthy Minds and Game ready\, fostering positive coping skills and mental wellness. Nicole is a recipient of Ottawa&rsquo\;s 40 Under 40 Award.</span></span></span><br />\n&nbsp\;\n<p style="box-sizing: inherit\; margin: 0px\; padding: 0px\; border: 0px\; font-size: inherit\; vertical-align: baseline\; background: transparent\; line-height: 1.5\; color: rgba(0\, 0\, 0\, 0.9)\; cursor: text\; counter-reset: list-1 0 list-2 0 list-3 0 list-4 0 list-5 0 list-6 0 list-7 0 list-8 0 list-9 0\;"><br />\n<span style="font-size:14px\;"><span style="font-family:tahoma\;">Proudly sponsored by iHR Advisory Services.</span></span></p>\n
LOCATION:Webinar The webinar link will be emailed to registered guests. You must register in advance.
UID:e.3330.1738
SEQUENCE:3
DTSTAMP:20260421T100313Z
URL:https://business.ottawabot.ca/events/details/wellness-wednesday-understanding-and-managing-returning-to-work-anxiety-1738
END:VEVENT

END:VCALENDAR
