BEGIN:VCALENDAR
VERSION:2.0
PRODID:-//ChamberMaster//Event Calendar 2.0//EN
METHOD:PUBLISH
X-PUBLISHED-TTL:P3D
REFRESH-INTERVAL:P3D
CALSCALE:GREGORIAN
BEGIN:VEVENT
DTSTART:20200827T150000Z
DTEND:20200827T160000Z
X-MICROSOFT-CDO-ALLDAYEVENT:FALSE
SUMMARY:WSIB Health and Safety Excellence Program
DESCRIPTION:Health and safety can be complicated. As a business\, it's not always clear what must be done\, what should be done\, and what is nice to do! There are many acronyms and jargon that you may not have heard before.\n\n \n\nThe Health and Safety Excellence program is designed to reward you for behaviours and activities that improve workplace health and safety\n\n \n\nTo learn more about our Health and Safety Excellence program and how you can earn rebates and recognition while we help you build and enhance your workplace health and safety programs and keep your business pandemic ready\, sign up for our webinar. You will get the opportunity to learn more about the program\, find out how to get started and ask questions.
X-ALT-DESC;FMTTYPE=text/html:<br />\n<span style="font-size:14px\;"><span style="font-family:verdana\;">Health and safety can be complicated. As a business\, it&rsquo\;s not always clear what must be done\, what should be done\, and what is nice to do! There are many acronyms and jargon that you may not have heard before.<br />\n&nbsp\;<br />\nThe Health and Safety Excellence program is designed to reward you for behaviours and activities that improve workplace health and safety<br />\n&nbsp\;<br />\n<span style="background:white\;"><span style="color:black\;">To learn more about our Health and Safety Excellence program and how you can earn rebates and recognition while we help you build and enhance your workplace health and safety programs and keep your business pandemic ready\, sign up for our webinar. You will get the opportunity to learn more about the program\, find out how to get started and ask questions.</span></span></span></span>
LOCATION:The webinar link will be emailed to registered guests between 7:00 AM and 9:00 AM on August 27.
UID:e.3330.1816
SEQUENCE:3
DTSTAMP:20260421T112606Z
URL:https://business.ottawabot.ca/events/details/wsib-health-and-safety-excellence-program-1816
END:VEVENT

END:VCALENDAR
