BEGIN:VCALENDAR
VERSION:2.0
PRODID:-//ChamberMaster//Event Calendar 2.0//EN
METHOD:PUBLISH
X-PUBLISHED-TTL:P3D
REFRESH-INTERVAL:P3D
CALSCALE:GREGORIAN
BEGIN:VEVENT
DTSTART:20220811T180000Z
DTEND:20220811T190000Z
X-MICROSOFT-CDO-ALLDAYEVENT:FALSE
SUMMARY:ZENBOOKS FIRESIDE CHAT SERIES – ECONOMIC OUTLOOK AND GENERAL GUIDANCE
DESCRIPTION:Zenbooks is fortunate to be hosting the latest Fireside Chat with renowned Economist\, Peter Hall\, Former Chief Economist of Export Development Canada(EDC)\, to discuss some of the latest emerging economic issues and share insights/guidance for small business owners.\n\nPeter has been in very high demand recently\, as small business owners are handling numerous economic challenges including hyper-inflation\, employment issues\, currency fluctuations\, supply chain challenges and an aging population.\n\nPeter is at the forefront of economic analysis and does quantitative analysis of the facts and figures without prejudice of common or popular opinions. You may not like what he says\, but he'll be honest and candid regardless. That's the kind of insight we can all use for our business!\n\nCome prepared with questions! Questions give substance to the conversation! That's what our Fireside Chats are all about!\n\nZenbooks is Canada's go-to cloud accounting firm since 2015. We combine modern cloud technology with our in-house expert analysis to provide you with the online accounting service and guidance that best fits your business needs. From tax planning to payroll and monthly accounting services. They're your finance team!
X-ALT-DESC;FMTTYPE=text/html:<p style="margin-left:0px\; margin-right:0px">Zenbooks is fortunate to be hosting the latest Fireside Chat with renowned Economist\, Peter&nbsp\;Hall\, Former Chief Economist of Export Development Canada(EDC)\, to discuss some of the latest emerging economic issues and share insights/guidance for small business owners.</p>\n\n<p style="margin-left:0px\; margin-right:0px">Peter has been in very high demand recently\, as small business owners are handling numerous economic challenges including hyper-inflation\, employment issues\, currency fluctuations\, supply chain challenges and an aging population.</p>\n\n<p style="margin-left:0px\; margin-right:0px">Peter is at the forefront of economic analysis and does quantitative analysis of the facts and figures without prejudice of common or popular opinions. You may not like what he says\, but he&rsquo\;ll be honest and candid regardless. That&rsquo\;s the kind of insight we can all use for our business!</p>\n\n<p style="margin-left:0px\; margin-right:0px">Come prepared with questions! Questions give substance to the conversation! That&rsquo\;s what our Fireside Chats are all about!</p>\n\n<p style="margin-left:0px\; margin-right:0px">Zenbooks is Canada&rsquo\;s go-to cloud accounting firm since 2015. We combine modern cloud technology with our in-house expert analysis to provide you with the online accounting service and guidance that best fits your business needs. From tax planning to payroll and monthly accounting services. They&rsquo\;re your finance team!</p>\n
LOCATION:Webinar
UID:e.3330.2922
SEQUENCE:3
DTSTAMP:20260419T133758Z
URL:https://business.ottawabot.ca/events/details/zenbooks-fireside-chat-series-economic-outlook-and-general-guidance-2922
END:VEVENT

END:VCALENDAR
